Package: mslp Version: 1.13.0 Command: rm -rf mslp.buildbin-libdir && mkdir mslp.buildbin-libdir && /Users/biocbuild/BBS/utils/build-universal.sh mslp_1.13.0.tar.gz /Library/Frameworks/R.framework/Resources/bin/R mslp.buildbin-libdir StartedAt: 2025-11-12 21:03:59 -0500 (Wed, 12 Nov 2025) EndedAt: 2025-11-12 21:04:01 -0500 (Wed, 12 Nov 2025) EllapsedTime: 2.0 seconds RetCode: 0 Status: OK PackageFile: mslp_1.13.0.tgz PackageFileSize: 453.7 KiB