Package: msgbsR Version: 1.35.0 Command: /Library/Frameworks/R.framework/Resources/bin/R CMD INSTALL msgbsR StartedAt: 2025-11-14 15:26:55 -0500 (Fri, 14 Nov 2025) EndedAt: 2025-11-14 15:27:19 -0500 (Fri, 14 Nov 2025) EllapsedTime: 24.0 seconds RetCode: 0 Status: OK