Package: msgbsR Version: 1.35.0 Command: /Library/Frameworks/R.framework/Resources/bin/R CMD check --install=check:msgbsR.install-out.txt --library=/Library/Frameworks/R.framework/Resources/library --no-vignettes --timings msgbsR_1.35.0.tar.gz StartedAt: 2025-11-14 21:11:53 -0500 (Fri, 14 Nov 2025) EndedAt: 2025-11-14 21:14:51 -0500 (Fri, 14 Nov 2025) EllapsedTime: 178.2 seconds RetCode: 0 Status: OK CheckDir: msgbsR.Rcheck Warnings: 0