Package: msgbsR Version: 1.35.0 Command: /Library/Frameworks/R.framework/Resources/bin/R CMD build --keep-empty-dirs --no-resave-data msgbsR StartedAt: 2025-11-14 17:04:45 -0500 (Fri, 14 Nov 2025) EndedAt: 2025-11-14 17:05:27 -0500 (Fri, 14 Nov 2025) EllapsedTime: 41.5 seconds RetCode: 0 Status: OK PackageFile: msgbsR_1.35.0.tar.gz PackageFileSize: 15.25 MiB