Package: msa Version: 1.43.1 Command: /Library/Frameworks/R.framework/Resources/bin/R CMD INSTALL msa StartedAt: 2025-11-26 15:10:30 -0500 (Wed, 26 Nov 2025) EndedAt: 2025-11-26 15:12:09 -0500 (Wed, 26 Nov 2025) EllapsedTime: 98.9 seconds RetCode: 0 Status: OK