Package: msa Version: 1.43.1 Command: /Library/Frameworks/R.framework/Resources/bin/R CMD build --keep-empty-dirs --no-resave-data msa StartedAt: 2025-11-25 17:03:59 -0500 (Tue, 25 Nov 2025) EndedAt: 2025-11-25 17:05:56 -0500 (Tue, 25 Nov 2025) EllapsedTime: 117.3 seconds RetCode: 0 Status: OK PackageFile: msa_1.43.1.tar.gz PackageFileSize: 3.911 MiB