Package: msa Version: 1.43.1 Command: rm -rf msa.buildbin-libdir && mkdir msa.buildbin-libdir && /Users/biocbuild/BBS/utils/build-universal.sh msa_1.43.1.tar.gz /Library/Frameworks/R.framework/Resources/bin/R msa.buildbin-libdir StartedAt: 2025-11-25 23:43:01 -0500 (Tue, 25 Nov 2025) EndedAt: 2025-11-25 23:45:22 -0500 (Tue, 25 Nov 2025) EllapsedTime: 140.7 seconds RetCode: 0 Status: OK PackageFile: msa_1.43.1.tgz PackageFileSize: 1.701 MiB