Package: msPurity Version: 1.37.0 Command: /home/biocbuild/bbs-3.23-bioc/R/bin/R CMD INSTALL msPurity StartedAt: 2025-11-26 15:31:31 -0500 (Wed, 26 Nov 2025) EndedAt: 2025-11-26 15:31:42 -0500 (Wed, 26 Nov 2025) EllapsedTime: 11.2 seconds RetCode: 0 Status: OK