Package: msPurity Version: 1.37.0 Command: /home/biocbuild/bbs-3.23-bioc/R/bin/R CMD build --keep-empty-dirs --no-resave-data msPurity StartedAt: 2025-11-25 18:55:39 -0500 (Tue, 25 Nov 2025) EndedAt: 2025-11-25 19:03:08 -0500 (Tue, 25 Nov 2025) EllapsedTime: 449.4 seconds RetCode: 0 Status: OK PackageFile: msPurity_1.37.0.tar.gz PackageFileSize: 11.29 MiB