Package: msPurity Version: 1.37.0 Command: /Library/Frameworks/R.framework/Resources/bin/R CMD INSTALL msPurity StartedAt: 2025-11-14 15:10:46 -0500 (Fri, 14 Nov 2025) EndedAt: 2025-11-14 15:10:51 -0500 (Fri, 14 Nov 2025) EllapsedTime: 5.1 seconds RetCode: 0 Status: OK