Package: msPurity Version: 1.37.0 Command: rm -rf msPurity.buildbin-libdir && mkdir msPurity.buildbin-libdir && /Users/biocbuild/BBS/utils/build-universal.sh msPurity_1.37.0.tar.gz /Library/Frameworks/R.framework/Resources/bin/R msPurity.buildbin-libdir StartedAt: 2025-11-14 23:42:19 -0500 (Fri, 14 Nov 2025) EndedAt: 2025-11-14 23:42:26 -0500 (Fri, 14 Nov 2025) EllapsedTime: 7.1 seconds RetCode: 0 Status: OK PackageFile: msPurity_1.37.0.tgz PackageFileSize: 11.42 MiB