Package: mpra Version: 1.33.0 Command: /Library/Frameworks/R.framework/Resources/bin/R CMD INSTALL mpra StartedAt: 2025-11-14 15:12:19 -0500 (Fri, 14 Nov 2025) EndedAt: 2025-11-14 15:12:29 -0500 (Fri, 14 Nov 2025) EllapsedTime: 10.1 seconds RetCode: 0 Status: OK