Package: mpra Version: 1.33.0 Command: /Library/Frameworks/R.framework/Resources/bin/R CMD build --keep-empty-dirs --no-resave-data mpra StartedAt: 2025-11-14 17:04:03 -0500 (Fri, 14 Nov 2025) EndedAt: 2025-11-14 17:04:24 -0500 (Fri, 14 Nov 2025) EllapsedTime: 21.2 seconds RetCode: 0 Status: OK PackageFile: mpra_1.33.0.tar.gz PackageFileSize: 3.331 MiB