Package: mpra Version: 1.33.0 Command: rm -rf mpra.buildbin-libdir && mkdir mpra.buildbin-libdir && /Users/biocbuild/BBS/utils/build-universal.sh mpra_1.33.0.tar.gz /Library/Frameworks/R.framework/Resources/bin/R mpra.buildbin-libdir StartedAt: 2025-11-13 23:46:51 -0500 (Thu, 13 Nov 2025) EndedAt: 2025-11-13 23:47:04 -0500 (Thu, 13 Nov 2025) EllapsedTime: 12.3 seconds RetCode: 0 Status: OK PackageFile: mpra_1.33.0.tgz PackageFileSize: 3.552 MiB