Package: motifmatchr Version: 1.33.0 Command: /home/biocbuild/bbs-3.23-bioc/R/bin/R CMD INSTALL motifmatchr StartedAt: 2025-11-23 15:52:39 -0500 (Sun, 23 Nov 2025) EndedAt: 2025-11-23 15:53:38 -0500 (Sun, 23 Nov 2025) EllapsedTime: 58.5 seconds RetCode: 0 Status: OK