Package: motifmatchr Version: 1.33.0 Command: /Library/Frameworks/R.framework/Resources/bin/R CMD INSTALL motifmatchr StartedAt: 2025-11-14 15:26:25 -0500 (Fri, 14 Nov 2025) EndedAt: 2025-11-14 15:26:47 -0500 (Fri, 14 Nov 2025) EllapsedTime: 21.5 seconds RetCode: 0 Status: OK