Package: motifmatchr Version: 1.33.0 Command: /Library/Frameworks/R.framework/Resources/bin/R CMD build --keep-empty-dirs --no-resave-data motifmatchr StartedAt: 2025-11-14 17:03:02 -0500 (Fri, 14 Nov 2025) EndedAt: 2025-11-14 17:03:51 -0500 (Fri, 14 Nov 2025) EllapsedTime: 48.5 seconds RetCode: 0 Status: OK PackageFile: motifmatchr_1.33.0.tar.gz PackageFileSize: 51.61 KiB