Package: motifmatchr Version: 1.33.0 Command: rm -rf motifmatchr.buildbin-libdir && mkdir motifmatchr.buildbin-libdir && /Users/biocbuild/BBS/utils/build-universal.sh motifmatchr_1.33.0.tar.gz /Library/Frameworks/R.framework/Resources/bin/R motifmatchr.buildbin-libdir StartedAt: 2025-11-14 23:41:42 -0500 (Fri, 14 Nov 2025) EndedAt: 2025-11-14 23:42:08 -0500 (Fri, 14 Nov 2025) EllapsedTime: 26.5 seconds RetCode: 0 Status: OK PackageFile: motifmatchr_1.33.0.tgz PackageFileSize: 183.5 KiB