Back to Multiple platform build/check report for BioC 3.23:   simplified   long
ABCDEFGHIJKL[M]NOPQRSTUVWXYZ

This page was generated on 2025-11-15 11:34 -0500 (Sat, 15 Nov 2025).

HostnameOSArch (*)R versionInstalled pkgs
nebbiolo1Linux (Ubuntu 24.04.3 LTS)x86_64R Under development (unstable) (2025-10-20 r88955) -- "Unsuffered Consequences" 4826
kjohnson3macOS 13.7.7 Venturaarm64R Under development (unstable) (2025-11-04 r88984) -- "Unsuffered Consequences" 4561
Click on any hostname to see more info about the system (e.g. compilers)      (*) as reported by 'uname -p', except on Windows and Mac OS X

All results for package motifmatchr


To the developers/maintainers of the motifmatchr package:
- Allow up to 24 hours (and sometimes 48 hours) for your latest push to git@git.bioconductor.org:packages/motifmatchr.git to reflect on this report. See Troubleshooting Build Report for more information.
- Use the following Renviron settings to reproduce errors and warnings.
- If 'R CMD check' started to fail recently on the Linux builder(s) over a missing dependency, add the missing dependency to 'Suggests:' in your DESCRIPTION file. See Renviron.bioc for more information.

raw results

Package 1344/2325HostnameOS / ArchINSTALLBUILDCHECKBUILD BIN
motifmatchr 1.33.0  (landing page)
Alicia Schep
Snapshot Date: 2025-11-14 13:40 -0500 (Fri, 14 Nov 2025)
git_url: https://git.bioconductor.org/packages/motifmatchr
git_branch: devel
git_last_commit: c2e55a2
git_last_commit_date: 2025-10-29 10:38:55 -0500 (Wed, 29 Oct 2025)
nebbiolo1Linux (Ubuntu 24.04.3 LTS) / x86_64  OK    OK    OK  UNNEEDED, same version is already published
kjohnson3macOS 13.7.7 Ventura / arm64  OK    OK    OK    OK  NO, package depends on 'TFBSTools' which is only available as a source package that needs compilation



Results for Bioconductor software packages that depend directly on package motifmatchr

QUICK STATSOS / ArchINSTALLBUILDCHECKBUILD BIN
nebbiolo1Linux (Ubuntu 24.04.3 LTS) / x86_64
015
015
0104
kjohnson3macOS 13.7.7 Ventura / arm64
015
015
0104
005
Package 1/6HostnameOS / ArchINSTALLBUILDCHECKBUILD BIN
ATACseqTFEA 1.13.0  (landing page)
Jianhong Ou
git_last_commit: e0054ea
git_last_commit_date: 2025-10-29 11:18:13 -0500
nebbiolo1Linux (Ubuntu 24.04.3 LTS) / x86_64  OK    OK    OK  UNNEEDED, same version is already published
kjohnson3macOS 13.7.7 Ventura / arm64  OK    OK    OK    OK  NO, package depends on 'GenomicRanges' which is only available as a source package that needs compilation
Package 2/6HostnameOS / ArchINSTALLBUILDCHECKBUILD BIN
enhancerHomologSearch 1.17.0  (landing page)
Jianhong Ou
git_last_commit: aec9810
git_last_commit_date: 2025-10-29 11:11:19 -0500
nebbiolo1Linux (Ubuntu 24.04.3 LTS) / x86_64  OK    OK    OK  UNNEEDED, same version is already published
kjohnson3macOS 13.7.7 Ventura / arm64  OK    OK    OK    OK  NO, package depends on 'GenomicRanges' which is only available as a source package that needs compilation
Package 3/6HostnameOS / ArchINSTALLBUILDCHECKBUILD BIN
epiregulon 2.1.2  (landing page)
Xiaosai Yao
git_last_commit: 9dec0f9
git_last_commit_date: 2025-11-13 10:16:00 -0500
nebbiolo1Linux (Ubuntu 24.04.3 LTS) / x86_64  OK    OK    OK  UNNEEDED, same version is already published
kjohnson3macOS 13.7.7 Ventura / arm64  OK    OK    OK    OK  NO, package depends on 'scran' which is only available as a source package that needs compilation
Package 4/6HostnameOS / ArchINSTALLBUILDCHECKBUILD BIN
esATAC 1.33.0  (landing page)
Zheng Wei
git_last_commit: 90d779d
git_last_commit_date: 2025-10-29 10:42:12 -0500
nebbiolo1Linux (Ubuntu 24.04.3 LTS) / x86_64  ERROR    ERROR  skipped
kjohnson3macOS 13.7.7 Ventura / arm64  ERROR    ERROR  skippedskipped
Package 5/6HostnameOS / ArchINSTALLBUILDCHECKBUILD BIN
pageRank 1.21.0  (landing page)
Hongxu Ding
git_last_commit: 36f7e99
git_last_commit_date: 2025-10-29 11:02:26 -0500
nebbiolo1Linux (Ubuntu 24.04.3 LTS) / x86_64  OK    OK    OK  UNNEEDED, same version is already published
kjohnson3macOS 13.7.7 Ventura / arm64  OK    OK    OK    OK  NO, package depends on 'GenomicRanges' which is only available as a source package that needs compilation
Package 6/6HostnameOS / ArchINSTALLBUILDCHECKBUILD BIN
spatzie 1.17.0  (landing page)
Jennifer Hammelman
git_last_commit: 3303154
git_last_commit_date: 2025-10-29 11:11:08 -0500
nebbiolo1Linux (Ubuntu 24.04.3 LTS) / x86_64  OK    OK    ERROR  
kjohnson3macOS 13.7.7 Ventura / arm64  OK    OK    ERROR    OK