Package: motifbreakR Version: 2.25.0 Command: /Library/Frameworks/R.framework/Resources/bin/R CMD INSTALL motifbreakR StartedAt: 2025-11-25 15:27:54 -0500 (Tue, 25 Nov 2025) EndedAt: 2025-11-25 15:28:22 -0500 (Tue, 25 Nov 2025) EllapsedTime: 27.8 seconds RetCode: 0 Status: OK