Package: motifbreakR Version: 2.25.0 Command: /Library/Frameworks/R.framework/Resources/bin/R CMD build --keep-empty-dirs --no-resave-data motifbreakR StartedAt: 2025-11-26 17:02:41 -0500 (Wed, 26 Nov 2025) EndedAt: 2025-11-26 17:04:45 -0500 (Wed, 26 Nov 2025) EllapsedTime: 123.4 seconds RetCode: 1 Status: ERROR PackageFile: None PackageFileSize: NA