Package: motifTestR Version: 1.7.0 Command: /home/biocbuild/bbs-3.23-bioc/R/bin/R CMD INSTALL motifTestR StartedAt: 2025-11-14 15:24:42 -0500 (Fri, 14 Nov 2025) EndedAt: 2025-11-14 15:24:57 -0500 (Fri, 14 Nov 2025) EllapsedTime: 14.6 seconds RetCode: 0 Status: OK