Package: motifTestR Version: 1.7.0 Command: /home/biocbuild/bbs-3.23-bioc/R/bin/R CMD build --keep-empty-dirs --no-resave-data motifTestR StartedAt: 2025-11-14 18:48:27 -0500 (Fri, 14 Nov 2025) EndedAt: 2025-11-14 18:49:50 -0500 (Fri, 14 Nov 2025) EllapsedTime: 82.1 seconds RetCode: 0 Status: OK PackageFile: motifTestR_1.7.0.tar.gz PackageFileSize: 1.032 MiB