Package: motifTestR Version: 1.7.0 Command: /Library/Frameworks/R.framework/Resources/bin/R CMD INSTALL motifTestR StartedAt: 2025-11-14 15:11:36 -0500 (Fri, 14 Nov 2025) EndedAt: 2025-11-14 15:11:42 -0500 (Fri, 14 Nov 2025) EllapsedTime: 6.1 seconds RetCode: 0 Status: OK