Package: motifTestR Version: 1.7.0 Command: /Library/Frameworks/R.framework/Resources/bin/R CMD build --keep-empty-dirs --no-resave-data motifTestR StartedAt: 2025-11-14 17:03:26 -0500 (Fri, 14 Nov 2025) EndedAt: 2025-11-14 17:03:59 -0500 (Fri, 14 Nov 2025) EllapsedTime: 33.4 seconds RetCode: 0 Status: OK PackageFile: motifTestR_1.7.0.tar.gz PackageFileSize: 1.14 MiB