Package: motifTestR Version: 1.7.0 Maintainer: Stevie Pederson MaintainerEmail: stephen.pederson.au at gmail.com git_url: https://git.bioconductor.org/packages/motifTestR git_branch: devel git_last_commit: 26a47a7 git_last_commit_date: 2025-10-29 11:28:54 -0500 (Wed, 29 Oct 2025)