Package: motifStack Version: 1.55.0 Command: /home/biocbuild/bbs-3.23-bioc/R/bin/R CMD INSTALL motifStack StartedAt: 2025-11-13 15:52:23 -0500 (Thu, 13 Nov 2025) EndedAt: 2025-11-13 15:53:10 -0500 (Thu, 13 Nov 2025) EllapsedTime: 47.0 seconds RetCode: 0 Status: OK