Package: motifStack Version: 1.55.0 Command: /home/biocbuild/bbs-3.23-bioc/R/bin/R CMD build --keep-empty-dirs --no-resave-data motifStack StartedAt: 2025-11-13 18:48:18 -0500 (Thu, 13 Nov 2025) EndedAt: 2025-11-13 18:50:11 -0500 (Thu, 13 Nov 2025) EllapsedTime: 113.1 seconds RetCode: 0 Status: OK PackageFile: motifStack_1.55.0.tar.gz PackageFileSize: 1.969 MiB