Package: motifStack Version: 1.55.0 Command: /Library/Frameworks/R.framework/Resources/bin/R CMD INSTALL motifStack StartedAt: 2025-11-13 15:29:27 -0500 (Thu, 13 Nov 2025) EndedAt: 2025-11-13 15:29:46 -0500 (Thu, 13 Nov 2025) EllapsedTime: 18.7 seconds RetCode: 0 Status: OK