Package: motifStack Version: 1.55.0 Command: /Library/Frameworks/R.framework/Resources/bin/R CMD check --install=check:motifStack.install-out.txt --library=/Library/Frameworks/R.framework/Resources/library --no-vignettes --timings motifStack_1.55.0.tar.gz StartedAt: 2025-11-14 21:07:37 -0500 (Fri, 14 Nov 2025) EndedAt: 2025-11-14 21:09:58 -0500 (Fri, 14 Nov 2025) EllapsedTime: 140.5 seconds RetCode: 0 Status: OK CheckDir: motifStack.Rcheck Warnings: 0