Package: motifStack Version: 1.55.0 Command: /Library/Frameworks/R.framework/Resources/bin/R CMD build --keep-empty-dirs --no-resave-data motifStack StartedAt: 2025-11-13 17:06:12 -0500 (Thu, 13 Nov 2025) EndedAt: 2025-11-13 17:07:00 -0500 (Thu, 13 Nov 2025) EllapsedTime: 47.5 seconds RetCode: 0 Status: OK PackageFile: motifStack_1.55.0.tar.gz PackageFileSize: 3.701 MiB