Package: monocle Version: 2.39.0 Command: /Library/Frameworks/R.framework/Resources/bin/R CMD INSTALL monocle StartedAt: 2025-11-14 15:07:53 -0500 (Fri, 14 Nov 2025) EndedAt: 2025-11-14 15:08:01 -0500 (Fri, 14 Nov 2025) EllapsedTime: 8.0 seconds RetCode: 0 Status: OK