Package: monocle Version: 2.39.0 Command: /Library/Frameworks/R.framework/Resources/bin/R CMD build --keep-empty-dirs --no-resave-data monocle StartedAt: 2025-11-14 17:01:42 -0500 (Fri, 14 Nov 2025) EndedAt: 2025-11-14 17:01:56 -0500 (Fri, 14 Nov 2025) EllapsedTime: 13.1 seconds RetCode: 0 Status: OK PackageFile: monocle_2.39.0.tar.gz PackageFileSize: 9.006 MiB