Package: mnem Version: 1.27.0 Command: /home/biocbuild/bbs-3.23-bioc/R/bin/R CMD build --keep-empty-dirs --no-resave-data mnem StartedAt: 2025-11-11 18:48:19 -0500 (Tue, 11 Nov 2025) EndedAt: 2025-11-11 18:49:24 -0500 (Tue, 11 Nov 2025) EllapsedTime: 65.1 seconds RetCode: 0 Status: OK PackageFile: mnem_1.27.0.tar.gz PackageFileSize: 4.755 MiB