Package: mnem Version: 1.27.0 Command: /Library/Frameworks/R.framework/Resources/bin/R CMD INSTALL mnem StartedAt: 2025-11-14 15:08:43 -0500 (Fri, 14 Nov 2025) EndedAt: 2025-11-14 15:08:55 -0500 (Fri, 14 Nov 2025) EllapsedTime: 11.5 seconds RetCode: 0 Status: OK