Package: mnem Version: 1.27.0 Command: /Library/Frameworks/R.framework/Resources/bin/R CMD build --keep-empty-dirs --no-resave-data mnem StartedAt: 2025-11-13 17:03:40 -0500 (Thu, 13 Nov 2025) EndedAt: 2025-11-13 17:04:08 -0500 (Thu, 13 Nov 2025) EllapsedTime: 28.3 seconds RetCode: 0 Status: OK PackageFile: mnem_1.27.0.tar.gz PackageFileSize: 4.799 MiB