Package: mnem Version: 1.27.0 Maintainer: Martin Pirkl MaintainerEmail: martinpirkl at yahoo.de git_url: https://git.bioconductor.org/packages/mnem git_branch: devel git_last_commit: 0fd323e git_last_commit_date: 2025-10-29 10:52:33 -0500 (Wed, 29 Oct 2025)