Package: mixOmics Version: 6.35.0 Command: /home/biocbuild/bbs-3.23-bioc/R/bin/R CMD INSTALL mixOmics StartedAt: 2025-11-21 15:09:28 -0500 (Fri, 21 Nov 2025) EndedAt: 2025-11-21 15:10:09 -0500 (Fri, 21 Nov 2025) EllapsedTime: 41.9 seconds RetCode: 0 Status: OK