Package: mixOmics Version: 6.35.0 Command: /home/biocbuild/bbs-3.23-bioc/R/bin/R CMD build --keep-empty-dirs --no-resave-data mixOmics StartedAt: 2025-11-21 18:45:26 -0500 (Fri, 21 Nov 2025) EndedAt: 2025-11-21 18:56:44 -0500 (Fri, 21 Nov 2025) EllapsedTime: 677.6 seconds RetCode: 0 Status: OK PackageFile: mixOmics_6.35.0.tar.gz PackageFileSize: 18.75 MiB