Package: mixOmics Version: 6.35.0 Command: /Library/Frameworks/R.framework/Resources/bin/R CMD build --keep-empty-dirs --no-resave-data mixOmics StartedAt: 2025-11-14 17:00:15 -0500 (Fri, 14 Nov 2025) EndedAt: 2025-11-14 17:04:45 -0500 (Fri, 14 Nov 2025) EllapsedTime: 270.0 seconds RetCode: 0 Status: OK PackageFile: mixOmics_6.35.0.tar.gz PackageFileSize: 19.97 MiB