Package: mixOmics Version: 6.35.0 Command: rm -rf mixOmics.buildbin-libdir && mkdir mixOmics.buildbin-libdir && /Users/biocbuild/BBS/utils/build-universal.sh mixOmics_6.35.0.tar.gz /Library/Frameworks/R.framework/Resources/bin/R mixOmics.buildbin-libdir StartedAt: 2025-11-13 23:46:06 -0500 (Thu, 13 Nov 2025) EndedAt: 2025-11-13 23:46:24 -0500 (Thu, 13 Nov 2025) EllapsedTime: 18.4 seconds RetCode: 0 Status: OK PackageFile: mixOmics_6.35.0.tgz PackageFileSize: 19.53 MiB