Package: mitch Version: 1.23.0 Command: /home/biocbuild/bbs-3.23-bioc/R/bin/R CMD INSTALL mitch StartedAt: 2025-11-13 15:10:04 -0500 (Thu, 13 Nov 2025) EndedAt: 2025-11-13 15:10:22 -0500 (Thu, 13 Nov 2025) EllapsedTime: 17.5 seconds RetCode: 0 Status: OK