Package: mitch Version: 1.23.0 Command: /home/biocbuild/bbs-3.23-bioc/R/bin/R CMD build --keep-empty-dirs --no-resave-data mitch StartedAt: 2025-11-13 18:42:03 -0500 (Thu, 13 Nov 2025) EndedAt: 2025-11-13 18:47:20 -0500 (Thu, 13 Nov 2025) EllapsedTime: 316.3 seconds RetCode: 0 Status: OK PackageFile: mitch_1.23.0.tar.gz PackageFileSize: 1.099 MiB