Package: mitch Version: 1.23.0 Command: /Library/Frameworks/R.framework/Resources/bin/R CMD INSTALL mitch StartedAt: 2025-11-13 15:05:44 -0500 (Thu, 13 Nov 2025) EndedAt: 2025-11-13 15:05:51 -0500 (Thu, 13 Nov 2025) EllapsedTime: 7.0 seconds RetCode: 0 Status: OK