Package: mitch Version: 1.23.0 Command: /Library/Frameworks/R.framework/Resources/bin/R CMD build --keep-empty-dirs --no-resave-data mitch StartedAt: 2025-11-13 17:02:39 -0500 (Thu, 13 Nov 2025) EndedAt: 2025-11-13 17:06:00 -0500 (Thu, 13 Nov 2025) EllapsedTime: 201.2 seconds RetCode: 0 Status: OK PackageFile: mitch_1.23.0.tar.gz PackageFileSize: 1.133 MiB