Package: mitch Version: 1.23.0 Maintainer: Mark Ziemann MaintainerEmail: mark.ziemann at gmail.com git_url: https://git.bioconductor.org/packages/mitch git_branch: devel git_last_commit: e45bba3 git_last_commit_date: 2025-10-29 10:55:52 -0500 (Wed, 29 Oct 2025)