Package: mirTarRnaSeq Version: 1.19.0 Command: /home/biocbuild/bbs-3.23-bioc/R/bin/R CMD INSTALL mirTarRnaSeq StartedAt: 2025-11-11 15:12:42 -0500 (Tue, 11 Nov 2025) EndedAt: 2025-11-11 15:12:51 -0500 (Tue, 11 Nov 2025) EllapsedTime: 9.5 seconds RetCode: 0 Status: OK