Package: mirTarRnaSeq Version: 1.19.0 Command: /home/biocbuild/bbs-3.23-bioc/R/bin/R CMD build --keep-empty-dirs --no-resave-data mirTarRnaSeq StartedAt: 2025-11-11 18:45:55 -0500 (Tue, 11 Nov 2025) EndedAt: 2025-11-11 18:48:43 -0500 (Tue, 11 Nov 2025) EllapsedTime: 167.2 seconds RetCode: 0 Status: OK PackageFile: mirTarRnaSeq_1.19.0.tar.gz PackageFileSize: 3.427 MiB