Package: mirTarRnaSeq Version: 1.19.0 Command: /Library/Frameworks/R.framework/Resources/bin/R CMD build --keep-empty-dirs --no-resave-data mirTarRnaSeq StartedAt: 2025-11-13 17:02:26 -0500 (Thu, 13 Nov 2025) EndedAt: 2025-11-13 17:03:35 -0500 (Thu, 13 Nov 2025) EllapsedTime: 68.8 seconds RetCode: 0 Status: OK PackageFile: mirTarRnaSeq_1.19.0.tar.gz PackageFileSize: 3.425 MiB