Package: mirTarRnaSeq Version: 1.19.0 Maintainer: Mercedeh Movassagh MaintainerEmail: mercedeh at ds.dfci.harvard.edu git_url: https://git.bioconductor.org/packages/mirTarRnaSeq git_branch: devel git_last_commit: c07b0d0 git_last_commit_date: 2025-10-29 11:07:50 -0500 (Wed, 29 Oct 2025)